BEGIN:VCALENDAR
VERSION:2.0
PRODID:-//Tukios.com/
BEGIN:VEVENT
UID:0d0d19d9-e21e-4f21-b8e0-06065e6b7da8@www.amosandsons.com
DTSTAMP:20260421T071221Z
DTSTART:20260423T150000Z
DTEND:20260423T160000Z
SUMMARY:Funeral Service
DESCRIPTION:Burial will follow in the Mt. Zion Baptist Church Cemetery
URL:https://www.amosandsons.com/obituaries/patricia-langford
LOCATION:St Mark Baptist Church 337 Devils Backbone Rd  Leesville SC 
	29070
GEO:34.0100568;-81.4399381
END:VEVENT
END:VCALENDAR